BEGIN:VCALENDAR
VERSION:2.0
PRODID:-//Spatlab - ECPv6.15.18//NONSGML v1.0//EN
CALSCALE:GREGORIAN
METHOD:PUBLISH
X-WR-CALNAME:Spatlab
X-ORIGINAL-URL:https://www.spatlab.nl
X-WR-CALDESC:Evenementen voor Spatlab
REFRESH-INTERVAL;VALUE=DURATION:PT1H
X-Robots-Tag:noindex
X-PUBLISHED-TTL:PT1H
BEGIN:VTIMEZONE
TZID:Europe/Amsterdam
BEGIN:DAYLIGHT
TZOFFSETFROM:+0100
TZOFFSETTO:+0200
TZNAME:CEST
DTSTART:20250330T010000
END:DAYLIGHT
BEGIN:STANDARD
TZOFFSETFROM:+0200
TZOFFSETTO:+0100
TZNAME:CET
DTSTART:20251026T010000
END:STANDARD
BEGIN:DAYLIGHT
TZOFFSETFROM:+0100
TZOFFSETTO:+0200
TZNAME:CEST
DTSTART:20260329T010000
END:DAYLIGHT
BEGIN:STANDARD
TZOFFSETFROM:+0200
TZOFFSETTO:+0100
TZNAME:CET
DTSTART:20261025T010000
END:STANDARD
BEGIN:DAYLIGHT
TZOFFSETFROM:+0100
TZOFFSETTO:+0200
TZNAME:CEST
DTSTART:20270328T010000
END:DAYLIGHT
BEGIN:STANDARD
TZOFFSETFROM:+0200
TZOFFSETTO:+0100
TZNAME:CET
DTSTART:20271031T010000
END:STANDARD
END:VTIMEZONE
BEGIN:VEVENT
DTSTART;VALUE=DATE:20260702
DTEND;VALUE=DATE:20260706
DTSTAMP:20260421T120249
CREATED:20251203T121757Z
LAST-MODIFIED:20251229T060229Z
UID:3985-1782950400-1783295999@www.spatlab.nl
SUMMARY:4 dagen Battenberg - Hessen
DESCRIPTION:Aanmelden\nJe kunt je voor dit weekend aanmelden bij Anja Welvaarts (spatlab@gmail.com) of via deze LINK. \nLET OP: START OP DONDERDAG T/M ZONDAG DIT IN VERBAND MET WEGAFSLUITINGEN.\nVoor al onze tochten en andere activiteiten geldt dat deelname geheel op eigen risico is. \n MC Spatlab faciliteert alleen de organisatie hiervan en aanvaardt dus geen enkele aansprakelijkheid. \n\nVertrekpunt\n \nVolgt nog \nKosten per persoon (overnachting\, ontbijt en avondeten). \n\nLeden p.p.:\n1 persoonskamer 290 euro\n2 persoonskamer 290 euro \nIntroducees p.p.:\n1 persoonskamer 310 euro\n2 persoonskamer 310 euro \n\n\nAlgemene informatie voor vertrek en huisregels \nDe algemene informatie voor vertrek\,vind je  hier\, voor de huisregels kun je hier terecht. \n\n\nControle van je motor\nKlik hier voor de motorcontrolepunten voor aanvang van het motorrijden (BRAVOK) \nBijzondere bepalingen in de diverse landen\nKlik hier om deze bijzondere bepalingen voor het rijden in groepen in Duitsland te bekijken. \nCorrect laden routes\nEen van de meestvoorkomende problemen met het laden van routes heeft te maken met het inladen van routes van een derde (deze dus). Alles lijkt in orde\, maar zodra je de route in mapsource of basekamp wil openen krijg je een foutmelding. \nDe beschrijving hoe je de routes correct kunt laden vind je hier!! \nDe weg kwijt met je Garmin??\nKlik hier om te kijken hoe je dit op kunt lossen. \nDe routes \nVolgen \n\n\nDit is een zipbestand mocht de link niet automatisch openen\, gebruik dan je rechtermuisknop en sla deze dan op met: link opslaan als.. \nEen andere optie is:\nHet kan zijn dat je deze melding krijgt\, dan gebruik je het knopje behouden. \n \n  \n  \n\n  \n\n\n\n  \nVoor info over deze routes kun je terecht bij VOLGT NOG. \n\nN.B. Zoals voor al onze weekenden en tochten\, geldt ook hier: \nWe hebben ons best gedaan om mooie routes uit te zoeken en we rijden die grotendeels voor om eventuele problemen te onderkennen. Echter\, het rijden van de routes is natuurlijk geheel op eigen risico! \nIedereen is en blijft verantwoordelijk voor zijn of haar eigen veiligheid!  Ga niet blind achter je voorganger aan\, maar neem je eigen beslissingen. Indien je het niet veilig acht de route te voltooien of als je een bepaalde verkeerssituatie anders wilt oplossen dan je voorganger\, dan heb jij de vrije keuze om dit te doen. Wij verplichten je niets. We vragen je om met gezond verstand aan onze routes deel te nemen. \n\n  \n\n\n\n\n\nAnja Welvaarts\n\n\n\nspatlab@gmail.com\n\n\n\n06-49655563\n\n\nLeonor Orban\n\n\n\nleonor.orban(at)gmail.com\n\n\n\n\n\n\nJeroen Alink\n\n\n\njeroen.hangout145(at)passmail.net\n\n\n\n\n\n\nFrank Vork\n\n\n\nfta.vork(at)gmail.com\n\n\n\n\n\n\nGerry van Someren\n\n\n\ngerry.vansomeren(at)gmail.com\n\n\n\n\n\n\n  \n\n 
URL:https://www.spatlab.nl/activiteit/2026_hessen/
LOCATION:Hotel Sassor\, Berliner Strasse 17\, Battenberg\, 35088\, Germany
CATEGORIES:Activiteiten 2026
ORGANIZER;CN="Motorclub MC Spat.Lab":MAILTO:spatlab(at)gmail.com
END:VEVENT
BEGIN:VEVENT
DTSTART;VALUE=DATE:20260827
DTEND;VALUE=DATE:20260831
DTSTAMP:20260421T120249
CREATED:20251203T124042Z
LAST-MODIFIED:20251204T182234Z
UID:3993-1787788800-1788134399@www.spatlab.nl
SUMMARY:4 dagen Bad Bergzabern - Rijnland-Paltz
DESCRIPTION:Aanmelden\nJe kunt je voor dit weekend aanmelden bij Anja Welvaarts (spatlab@gmail.com) of via deze LINK. \nLET OP: START OP DONDERDAG T/M ZONDAG DIT IN VERBAND MET WEGAFSLUITINGEN. \nVoor al onze tochten en andere activiteiten geldt dat deelname geheel op eigen risico is. MC Spatlab faciliteert alleen de organisatie hiervan en aanvaardt dus geen enkele aansprakelijkheid. \nVertrekpunt \nVolgt nog \n  \n\nKosten per persoon (overnachting\, ontbijt en avondeten). \n\nLeden pp:\n1 persoonskamer 415 euro\n2 persoonskamer 305 euro \nIntroducees:\n1 persoonskamer 435 euro\n2 persoonskamer 325 euro \n\nAlgemene informatie voor vertrek en huisregels\nDe algemene informatie voor vertrek\,vind je  hier\, voor de huisregels kun je hier terecht. \n\n\nControle van je motor\nKlik hier voor de motorcontrolepunten voor aanvang van het motorrijden (BRAVOK) \nBijzondere bepalingen in de diverse landen\nKlik hier om deze bijzondere bepalingen voor het rijden in groepen in Duitsland te bekijken. \nCorrect laden routes\nEen van de meestvoorkomende problemen met het laden van routes heeft te maken met het inladen van routes van een derde (deze dus). Alles lijkt in orde\, maar zodra je de route in mapsource of basekamp wil openen krijg je een foutmelding. \nDe beschrijving hoe je de routes correct kunt laden vind je hier!! \nDe weg kwijt met je Garmin??\nKlik hier om te kijken hoe je dit op kunt lossen. \nDe routes \nVolgt nog \n  \nDit is een zipbestand mocht de link niet automatisch openen\, gebruik dan je rechtermuisknop en sla deze dan op met: link opslaan als.. \n\n\nEen andere optie is:\nHet kan zijn dat je deze melding krijgt\, dan gebruik je het knopje behouden. \n \n  \n  \n\n  \n\n\n\nVoor info over deze routes kun je terecht bij volgt nog. \n\nN.B. Zoals voor al onze weekenden en tochten\, geldt ook hier: \nWe hebben ons best gedaan om mooie routes uit te zoeken en we rijden die grotendeels voor om eventuele problemen te onderkennen. Echter\, het rijden van de routes is natuurlijk geheel op eigen risico! \nIedereen is en blijft verantwoordelijk voor zijn of haar eigen veiligheid!  Ga niet blind achter je voorganger aan\, maar neem je eigen beslissingen. Indien je het niet veilig acht de route te voltooien of als je een bepaalde verkeerssituatie anders wilt oplossen dan je voorganger\, dan heb jij de vrije keuze om dit te doen. Wij verplichten je niets. We vragen je om met gezond verstand aan onze routes deel te nemen. \n\n\n\n\n\nAnja Welvaarts\n\n\n\nspatlab@gmail.com\n\n\n\n06-49655563\n\n\nLeonor Orban\n\n\n\nleonor.orban(at)gmail.com\n\n\n\n\n\n\nJeroen Alink\n\n\n\njeroen.hangout145(at)passmail.net\n\n\n\n\n\n\nFrank Vork\n\n\n\nfta.vork(at)gmail.com\n\n\n\n\n\n\nGerry van Someren\n\n\n\ngerry.vansomeren(at)gmail.com\n\n\n\n\n\n\n  \n\n 
URL:https://www.spatlab.nl/activiteit/2026_rijnland-paltz/
LOCATION:Hotel Luisenpark\, Kurtalstraße 57\, Bad Bergzabern\, 76887\, Germany
CATEGORIES:Activiteiten 2026
ORGANIZER;CN="Motorclub MC Spat.Lab":MAILTO:spatlab(at)gmail.com
END:VEVENT
BEGIN:VEVENT
DTSTART;VALUE=DATE:20260831
DTEND;VALUE=DATE:20260906
DTSTAMP:20260421T120249
CREATED:20251203T124941Z
LAST-MODIFIED:20251204T111222Z
UID:3996-1788134400-1788652799@www.spatlab.nl
SUMMARY:Vakantieweek Italie - Dolomieten
DESCRIPTION:Aanmelden\nJe kunt je voor dit weekend aanmelden bij Anja Welvaarts (spatlab@gmail.com) of via deze LINK. \n30 – 31 augustus – Landhotel Hirsch – Kempten – 1 overnachting \n31 augustus t/m 5 september – 5 nachten \n\n  \nVoor al onze tochten en andere activiteiten geldt dat deelname geheel op eigen risico is. MC Spatlab faciliteert alleen de organisatie hiervan en aanvaardt dus geen enkele aansprakelijkheid. \nVertrekpunt\nVanaf Hotel Luise – Bad Bergzabern\n \n\nDe eerste overnachting Hotel Hirsch in Kempten is zonder avondeten\, dus op eigen kosten. \n\nKosten per persoon  \nLeden p.p. :\n1 persoonskamer 595 euro\n2 persoonskamer  470 euro \nIntroducees p.p. :\n1 persoonskamer 615 euro\n2 persoonskamer 490 euro \nAlgemene informatie voor vertrek en huisregels \n\nDe algemene informatie voor vertrek\,vind je  hier\, voor de huisregels kun je hier terecht. \n\nControle van je motor\nKlik hier voor de motorcontrolepunten voor aanvang van het motorrijden (BRAVOK) \nBijzondere bepalingen in de diverse landen\nKlik hier om deze bijzondere bepalingen voor het rijden in groepen in Duitsland te bekijken. \nCorrect laden routes\nEen van de meestvoorkomende problemen met het laden van routes heeft te maken met het inladen van routes van een derde (deze dus). Alles lijkt in orde\, maar zodra je de route in mapsource of basekamp wil openen krijg je een foutmelding. \nDe beschrijving hoe je de routes correct kunt laden vind je hier!! \nDe weg kwijt met je Garmin??\nKlik hier om te kijken hoe je dit op kunt lossen. \n  \n\nAlle routes\, tracks en poi’s \n\n\n  \nKlik HIER voor het poi bestand. \n\nDit is een zipbestand mocht de link niet automatisch openen\, gebruik dan je rechtermuisknop en sla deze dan op met: link opslaan als.. \nEen andere optie is:\nHet kan zijn dat je deze melding krijgt\, dan gebruik je het knopje behouden. \n \n  \n  \n\n  \n\n\n  \nVoor info over deze routes kun je terecht bij VOLGT NOG. \n\n\n\nMocht je dit icoontje rechts naast het linkadres zien\, dan daar op klikken\, google ziet deze pagina als onbeveiligd\, maar je wordt dan doorgelinkt naar de goede pagina. Dit heeft te maken met de nieuwe regelgeving qua websites. \n  \n\n\nN.B. Zoals voor al onze weekenden en tochten\, geldt ook hier: \nVoor al onze tochten en andere activiteiten geldt dat deelname geheel op eigen risico is. MC Spatlab faciliteert alleen de organisatie hiervan en aanvaardt dus geen enkele aansprakelijkheid. \n\nWe hebben ons best gedaan om mooie routes uit te zoeken en we rijden die grotendeels voor om eventuele problemen te onderkennen. Echter\, het rijden van de routes is natuurlijk geheel op eigen risico! \nIedereen is en blijft verantwoordelijk voor zijn of haar eigen veiligheid!  Ga niet blind achter je voorganger aan\, maar neem je eigen beslissingen. Indien je het niet veilig acht de route te voltooien of als je een bepaalde verkeerssituatie anders wilt oplossen dan je voorganger\, dan heb jij de vrije keuze om dit te doen. Wij verplichten je niets. We vragen je om met gezond verstand aan onze routes deel te nemen. \n  \n\n\n\n\nAnja Welvaarts\n\n\n\nspatlab@gmail.com\n\n\n\n06-49655563\n\n\nLeonor Orban\n\n\n\nleonor.orban(at)gmail.com\n\n\n\n\n\n\nJeroen Alink\n\n\n\njeroen.hangout145(at)passmail.net\n\n\n\n\n\n\nFrank Vork\n\n\n\nfta.vork(at)gmail.com\n\n\n\n\n\n\nGerry van Someren\n\n\n\ngerry.vansomeren(at)gmail.com\n\n\n\n\n\n\n 
URL:https://www.spatlab.nl/activiteit/2026_dolomieten/
LOCATION:Hotel Villa Alpina\, Via Madonna della Salute 18\, Forni di Sopra\, Italy
CATEGORIES:Activiteiten 2026
ORGANIZER;CN="Motorclub MC Spat.Lab":MAILTO:spatlab(at)gmail.com
END:VEVENT
BEGIN:VEVENT
DTSTART;VALUE=DATE:20261004
DTEND;VALUE=DATE:20261005
DTSTAMP:20260421T120249
CREATED:20251204T111602Z
LAST-MODIFIED:20251216T145140Z
UID:4020-1791072000-1791158399@www.spatlab.nl
SUMMARY:Najaarstocht
DESCRIPTION:Voor al onze tochten en andere activiteiten geldt dat deelname geheel op eigen risico is.  \nMC Spatlab faciliteert alleen de organisatie hiervan en aanvaardt dus geen enkele aansprakelijkheid. \n  \n\nInschrijven\nVooraf inschrijven is niet nodig\, ter plaatse zijn de kosten 5 euro voor introducees en voor leden is dit gratis. \nWaar verzamelen we? \n  \nVoor verdere informatie over de route en eventuele vragen kan je terecht bij  Volgt nog! \n\nAlgemene informatie voor vertrek en huisregels\nDe algemene informatie voor vertrek\, vind je hier\, voor de huisregels kun je hier terecht. \n\n\nControle van je motor\nKlik hier voor de motorcontrolepunten voor aanvang van het motorrijden (BRAVOK) \nBijzondere bepalingen in de diverse landen\nKlik hier om deze bijzondere bepalingen voor het rijden in groepen in Duitsland te bekijken. \nCorrect laden routes\nEen van de meestvoorkomende problemen met het laden van routes heeft te maken met het inladen van routes van een derde (deze dus). Alles lijkt in orde\, maar zodra je de route in mapsource of basekamp wil openen krijg je een foutmelding. \nDe beschrijving hoe je de routes correct kunt laden vind je hier!! \nDe weg kwijt met je Garmin??\nKlik hier om te kijken hoe je dit op kunt lossen. \n  \nDe route \n\nDe link voor de route vind je HIER. \nDe link voor de tracks vind je HIER. \n\nDit is een zipbestand mocht de link niet automatisch openen\, gebruik dan je rechtermuisknop en sla deze dan op met: link opslaan als.. \nEen andere optie is:\nHet kan zijn dat je deze melding krijgt\, dan gebruik je het knopje behouden. \n \n  \n  \n  \n  \n  \nMocht je dit icoontje rechts naast het linkadres zien\, dan daar op klikken\, google ziet deze pagina als onbeveiligd\, maar je wordt dan doorgelinkt naar de goede pagina. Dit heeft te maken met de nieuwe regelgeving qua websites. \n  \nN.B. Zoals voor al onze weekenden en tochten\, geldt ook hier: \nWe hebben ons best gedaan om mooie routes uit te zoeken en we rijden die grotendeels voor om eventuele problemen te onderkennen. Echter\, het rijden van de routes is natuurlijk geheel op eigen risico! Iedereen is en blijft verantwoordelijk voor zijn of haar eigen veiligheid!  Ga niet blind achter je voorganger aan\, maar neem je eigen beslissingen. Indien je het niet veilig acht de route te voltooien of als je een bepaalde verkeerssituatie anders wilt oplossen dan je voorganger\, dan heb jij de vrije keuze om dit te doen. Wij verplichten je niets. We vragen je om met gezond verstand aan onze routes deel te nemen. \n  \n  \nOrganisatie\nDeze toertocht wordt georganiseerd door Motorclub MC Spat.Lab Eindhoven. \n  \n\n\n\nAnja Welvaarts\n\n\n\nspatlab@gmail.com\n\n\n\n06-49655563\n\n\nLeonor Orban\n\n\n\nleonor.orban(at)gmail.com\n\n\n\n\n\n\nJeroen Alink\n\n\n\njeroen.hangout145(at)passmail.net\n\n\n\n\n\n\nFrank Vork\n\n\n\nfta.vork(at)gmail.com\n\n\n\n\n\n\nGerry van Someren\n\n\n\ngerry.vansomeren(at)gmail.com
URL:https://www.spatlab.nl/activiteit/2026_najaarstocht/
CATEGORIES:Activiteiten 2026
ORGANIZER;CN="Motorclub MC Spat.Lab":MAILTO:spatlab(at)gmail.com
END:VEVENT
END:VCALENDAR